BEGIN:VCALENDAR
VERSION:2.0
PRODID:-//Alfa Suomi - Alpha Finland - ECPv6.15.20//NONSGML v1.0//EN
CALSCALE:GREGORIAN
METHOD:PUBLISH
X-WR-CALNAME:Alfa Suomi - Alpha Finland
X-ORIGINAL-URL:https://alfasuomi.fi
X-WR-CALDESC:Tapahtumat Alfa Suomi - Alpha Finland
REFRESH-INTERVAL;VALUE=DURATION:PT1H
X-Robots-Tag:noindex
X-PUBLISHED-TTL:PT1H
BEGIN:VTIMEZONE
TZID:Europe/Helsinki
BEGIN:DAYLIGHT
TZOFFSETFROM:+0200
TZOFFSETTO:+0300
TZNAME:EEST
DTSTART:20250330T010000
END:DAYLIGHT
BEGIN:STANDARD
TZOFFSETFROM:+0300
TZOFFSETTO:+0200
TZNAME:EET
DTSTART:20251026T010000
END:STANDARD
BEGIN:DAYLIGHT
TZOFFSETFROM:+0200
TZOFFSETTO:+0300
TZNAME:EEST
DTSTART:20260329T010000
END:DAYLIGHT
BEGIN:STANDARD
TZOFFSETFROM:+0300
TZOFFSETTO:+0200
TZNAME:EET
DTSTART:20261025T010000
END:STANDARD
BEGIN:DAYLIGHT
TZOFFSETFROM:+0200
TZOFFSETTO:+0300
TZNAME:EEST
DTSTART:20270328T010000
END:DAYLIGHT
BEGIN:STANDARD
TZOFFSETFROM:+0300
TZOFFSETTO:+0200
TZNAME:EET
DTSTART:20271031T010000
END:STANDARD
END:VTIMEZONE
BEGIN:VEVENT
DTSTART;TZID=Europe/Helsinki:20260428T140000
DTEND;TZID=Europe/Helsinki:20260428T153000
DTSTAMP:20260425T134757
CREATED:20251204T115103Z
LAST-MODIFIED:20260313T141654Z
UID:6401-1777384800-1777390200@alfasuomi.fi
SUMMARY:Alpha Youth -sarja: Näin pääset alkuun
DESCRIPTION:Koulutus auttaa sinua pääsemään vauhtiin kesällä 2025 julkaistun uuden Alpha Youth -sarjan kanssa. Pääset tutustumaan uuteen Alpha Youth -sarjaan ja sen oheismateriaaleihin. Tarjoamme askelmerkit\, joilla pääset liikkeelle\, vältät pahimmat mokat ja saatat Alfasi hyvin maaliin. Kuulet myös\, miten Nuorten Alfaa voi soveltaa eri konteksteissa ja pääset jakamaan kysymyksesi sekä kokemuksia ja ideoita yhdessä\, rukoustakaan unohtamatta. \n\n\n\nKäsittelemme mm. \n\n\n\n\nmikä on uusi Alpha Youth -sarja?\n\n\n\nmiten pääsen Nuorten Alfan kanssa liikkeelle?\n\n\n\nmiten toteuttaa Nuorten Alfa eri konteksteissa? (esim. seurakunnat\, riparit\, isko\, järjestöt tai koulut\, tai nuorten itse vetämänä)\n\n\n\nmitä Nuorten Alfan jälkeen?\n\n\n\n\nKenelle tarkoitettu: \n\n\n\n\nensimmäistä kertaa Nuorten Alfaan tutustuvat ja aiemmin Nuorten Alfaa käyttäneet\n\n\n\nseurakuntien / järjestöjen työntekijät sekä nuoret aktiivit\n\n\n\n\nIlmoittaudu mukaan alla olevalla lomakkeella. Lähetämme osallistumislinkin sähköpostiin ennen tapahtumaa. Tervetuloa ja kutsu kaverisikin mukaan! \n\n\n\n\n                \n                        \n                             \n                        \n                        Nimi(Pakollinen)\n                            \n                            \n                                                    \n                                                    Etunimi\n                                                \n                            \n                            \n                                                    \n                                                    Sukunimi\n                                                \n                            \n                        Sähköposti(Pakollinen)\n                                \n                                    \n                                    Syötä sähköposti\n                                \n                                \n                                    \n                                    Vahvista sähköposti\n                                \n                                \n                            PuhelinSeurakunta tai hengellinen yhteisö\, johon kuulun(Pakollinen)PaikkakuntaMistä kuulit tapahtumasta?Sosiaalisesta mediastaInternetistäPuskaradiostaYstävältäAiemmin osallistuneeltaMuuMikä on kokemuksesi Alfasta?Mitä odotat webinaarilta?Osallistuuko kanssasi muita henkilöitä koulutukseen? Jos kyllä\, ketä.   Lisää   PoistaGDPR(Pakollinen) Hyväksyn tietojeni käsittelyn Alfa Suomen tietosuojakäytännön mukaisesti https://alfasuomi.fi/tietosuojaseloste/CAPTCHA\n          \n            \n            \n            \n            \n            \n            \n            \n            \n            \n            \n            \n            \n            \n        \n                        Δ
URL:https://alfasuomi.fi/tapahtuma/alpha-youth-sarja-nain-paaset-alkuun/
END:VEVENT
END:VCALENDAR