BEGIN:VCALENDAR
VERSION:2.0
PRODID:-//Alfa Suomi - Alpha Finland - ECPv6.15.20//NONSGML v1.0//EN
CALSCALE:GREGORIAN
METHOD:PUBLISH
X-ORIGINAL-URL:https://alfasuomi.fi
X-WR-CALDESC:Tapahtumat Alfa Suomi - Alpha Finland
REFRESH-INTERVAL;VALUE=DURATION:PT1H
X-Robots-Tag:noindex
X-PUBLISHED-TTL:PT1H
BEGIN:VTIMEZONE
TZID:Europe/Helsinki
BEGIN:DAYLIGHT
TZOFFSETFROM:+0200
TZOFFSETTO:+0300
TZNAME:EEST
DTSTART:20250330T010000
END:DAYLIGHT
BEGIN:STANDARD
TZOFFSETFROM:+0300
TZOFFSETTO:+0200
TZNAME:EET
DTSTART:20251026T010000
END:STANDARD
BEGIN:DAYLIGHT
TZOFFSETFROM:+0200
TZOFFSETTO:+0300
TZNAME:EEST
DTSTART:20260329T010000
END:DAYLIGHT
BEGIN:STANDARD
TZOFFSETFROM:+0300
TZOFFSETTO:+0200
TZNAME:EET
DTSTART:20261025T010000
END:STANDARD
BEGIN:DAYLIGHT
TZOFFSETFROM:+0200
TZOFFSETTO:+0300
TZNAME:EEST
DTSTART:20270328T010000
END:DAYLIGHT
BEGIN:STANDARD
TZOFFSETFROM:+0300
TZOFFSETTO:+0200
TZNAME:EET
DTSTART:20271031T010000
END:STANDARD
END:VTIMEZONE
BEGIN:VEVENT
DTSTART;TZID=Europe/Helsinki:20260326T130000
DTEND;TZID=Europe/Helsinki:20260326T143000
DTSTAMP:20260425T150355
CREATED:20260211T080111Z
LAST-MODIFIED:20260218T091513Z
UID:6805-1774530000-1774535400@alfasuomi.fi
SUMMARY:Alpha Youth riparilla -webinaari
DESCRIPTION:Uusi Alpha Youth -sarja on tuore tapa nuorille tutkia uskoa\, elämää ja sen tarkoitusta. Kesällä 2025 suomeksi julkaistu uusi sarja oheismateriaaleineen on saanut todella hyvän vastaanoton niin nuorilta kuin seurakuntien työntekijöiltä myös rippikouluympäristössä. Maailmanlaajuisesti noin miljoona nuorta ja suomessakin jo tuhannet ovat tutustuneet kristilliseen uskoon sarjan äärellä. \n\n\n\nAntti Nironen Alfa Suomesta kertoo Alpha Youth riparilla -webinaareissa miten pääset alkuun nuorten Alfan käytössä rippikoulussa. Mukana myös muita kertomassa omista kokemuksistaan Alfasta ripareilla. Webinaarissa on lisäksi mahdollisuus jakaa omia ideoita ja kokemuksia.Ilmoittaudu alla olevalla lomakkeella webinaariin ja lähetämme osallistumislinkin sähköpostiisi ennen tapahtumaa. Tervetuloa mukaan!
URL:https://alfasuomi.fi/tapahtuma/alpha-youth-riparilla-webinaari-2/
END:VEVENT
END:VCALENDAR